BEGIN:VCALENDAR
VERSION:2.0
PRODID:-//Plone.org//NONSGML plone.app.event//EN
X-WR-TIMEZONE:US/Central
BEGIN:VEVENT
SUMMARY:Nurdle Survey
DTSTART;TZID=US/Central;VALUE=DATE-TIME:20251012T100000
DTEND;TZID=US/Central;VALUE=DATE-TIME:20251012T120000
DTSTAMP;VALUE=DATE-TIME:20260419T212829Z
UID:3e8daa19842340d28297ff29dfd28248
CONTACT:Laura Neu\, laura.neu@tpwd.texas.gov\, https://act.sierraclub.org/
 events/details?formcampaignid=701Po00000uujlbIAA&mapLinkHref=https://maps.
 google.com/maps&daddr=October%202nd%20Sunday%20Sierra-Nurdle%20Survey%20at
 %20Sea%20Rim%20State%20Park@29.676111\,-94.043984&_gl=1*38bypp*_gcl_au*Mjg
 wOTQ2Mzk3LjE3NTkzMzEyNDU.*_ga*NDg2ODQ3ODcyLjE3NTkzMzEyNDU.*_ga_41DQ5KQCWV*
 czE3NjAwMjE1NTckbzQkZzEkdDE3NjAwMjI4MTckajU5JGwwJGgw
CREATED;VALUE=DATE-TIME:20251009T151658Z
DESCRIPTION:Plastic so small can have huge impacts
LAST-MODIFIED;VALUE=DATE-TIME:20251009T151720Z
URL:https://tpwd.texas.gov/calendar/sea-rim/nurdle-survey
END:VEVENT
BEGIN:VTIMEZONE
TZID:US/Central
X-LIC-LOCATION:US/Central
BEGIN:DAYLIGHT
DTSTART;VALUE=DATE-TIME:20250309T030000
TZNAME:CDT
TZOFFSETFROM:-0600
TZOFFSETTO:-0500
END:DAYLIGHT
END:VTIMEZONE
END:VCALENDAR
