BEGIN:VCALENDAR
VERSION:2.0
PRODID:-//Plone.org//NONSGML plone.app.event//EN
X-WR-TIMEZONE:US/Central
BEGIN:VEVENT
SUMMARY:First Day Hikes
DTSTART;VALUE=DATE:20260101
DTEND;VALUE=DATE:20260102
DTSTAMP;VALUE=DATE-TIME:20260419T180420Z
UID:f213b587d94a431680d8946c875b96a1
CONTACT:Tanya Petruney\, (432) 292-4464\, tanya.petruney@tpwd.texas.gov
CREATED;VALUE=DATE-TIME:20211215T202223Z
DESCRIPTION:Start the New Year with a morning hike at Seminole Canyon Stat
 e Park & Historic Site.
LAST-MODIFIED;VALUE=DATE-TIME:20251212T172406Z
URL:https://tpwd.texas.gov/calendar/seminole-canyon/first-day-windmill-hik
 e
END:VEVENT
END:VCALENDAR
