BEGIN:VCALENDAR
VERSION:2.0
PRODID:-//Plone.org//NONSGML plone.app.event//EN
X-WR-TIMEZONE:US/Central
BEGIN:VEVENT
SUMMARY:Built Different
DTSTART;TZID=US/Central;VALUE=DATE-TIME:20260418T110000
DTEND;TZID=US/Central;VALUE=DATE-TIME:20260418T120000
DTSTAMP;VALUE=DATE-TIME:20260425T221204Z
UID:0adab7d1070d415c8fd5f50876715e21
CONTACT:Victoria Patrick\, (281)456-2800\, x8281\, Victoria.Patrick@tpwd.t
 exas.gov
CREATED;VALUE=DATE-TIME:20260313T200514Z
DESCRIPTION:Come learn how Sheldon Lake State Park built different!
LAST-MODIFIED;VALUE=DATE-TIME:20260328T195315Z
URL:https://tpwd.texas.gov/calendar/sheldon-lake/built-different
END:VEVENT
BEGIN:VTIMEZONE
TZID:US/Central
X-LIC-LOCATION:US/Central
BEGIN:DAYLIGHT
DTSTART;VALUE=DATE-TIME:20260308T030000
TZNAME:CDT
TZOFFSETFROM:-0600
TZOFFSETTO:-0500
END:DAYLIGHT
END:VTIMEZONE
END:VCALENDAR
