BEGIN:VCALENDAR
VERSION:2.0
PRODID:-//Plone.org//NONSGML plone.app.event//EN
X-WR-TIMEZONE:US/Central
BEGIN:VEVENT
SUMMARY:Leaves Like You Wouldn't Be-leaf!
DTSTART;TZID=US/Central;VALUE=DATE-TIME:20250713T000000
DTEND;TZID=US/Central;VALUE=DATE-TIME:20250713T000000
DTSTAMP;VALUE=DATE-TIME:20260420T014548Z
UID:b99e1e677532459abdc4bd0f3758661b
CONTACT:Victoria Patrick\, (281) 456-2800\, x232\, Victoria.Patrick@tpwd.t
 exas.gov
CREATED;VALUE=DATE-TIME:20250622T173221Z
DESCRIPTION:Be-leaf me\, you're going to want to try this!
LAST-MODIFIED;VALUE=DATE-TIME:20250703T191551Z
URL:https://tpwd.texas.gov/calendar/sheldon-lake/leaves-like-you-wouldnt-b
 e-leaf-1
END:VEVENT
BEGIN:VTIMEZONE
TZID:US/Central
X-LIC-LOCATION:US/Central
BEGIN:DAYLIGHT
DTSTART;VALUE=DATE-TIME:20250309T030000
TZNAME:CDT
TZOFFSETFROM:-0600
TZOFFSETTO:-0500
END:DAYLIGHT
END:VTIMEZONE
END:VCALENDAR
