BEGIN:VCALENDAR
VERSION:2.0
PRODID:-//Plone.org//NONSGML plone.app.event//EN
X-WR-TIMEZONE:US/Central
BEGIN:VEVENT
SUMMARY:Splash of Color
DTSTART;TZID=US/Central;VALUE=DATE-TIME:20250807T020000
DTEND;TZID=US/Central;VALUE=DATE-TIME:20250807T030000
DTSTAMP;VALUE=DATE-TIME:20260420T180602Z
UID:b87ab09ca321495989bfda3bf5b902a3
CONTACT:Victoria Patrick\, (281) 456-2800\, x232\, Victoria.Patrick@tpwd.t
 exas.gov
CREATED;VALUE=DATE-TIME:20250724T142500Z
DESCRIPTION:Express yourself using the park as inspiration!
LAST-MODIFIED;VALUE=DATE-TIME:20250801T164252Z
URL:https://tpwd.texas.gov/calendar/sheldon-lake/splash-of-color-1
END:VEVENT
BEGIN:VTIMEZONE
TZID:US/Central
X-LIC-LOCATION:US/Central
BEGIN:DAYLIGHT
DTSTART;VALUE=DATE-TIME:20250309T030000
TZNAME:CDT
TZOFFSETFROM:-0600
TZOFFSETTO:-0500
END:DAYLIGHT
END:VTIMEZONE
END:VCALENDAR
