BEGIN:VCALENDAR
VERSION:2.0
PRODID:-//Plone.org//NONSGML plone.app.event//EN
X-WR-TIMEZONE:US/Central
BEGIN:VEVENT
SUMMARY:Hueco Tanks State Park | One Night Event | Texas Outdoor Family | 
 El Paso Area (Registration Open)
DTSTART;TZID=US/Central;VALUE=DATE-TIME:20221119T093000
DTEND;TZID=US/Central;VALUE=DATE-TIME:20221120T110000
DTSTAMP;VALUE=DATE-TIME:20260419T191355Z
UID:448c8e2d2e3c4818aca08a15cf96f040
CONTACT:Customer Service\, (512) 389-8903\, tofsp@tpwd.texas.gov
CREATED;VALUE=DATE-TIME:20190122T211410Z
DESCRIPTION:Join us for a fun-filled weekend and discover the joys of camp
 ing in your Texas State Parks.
LAST-MODIFIED;VALUE=DATE-TIME:20221110T214551Z
URL:https://tpwd.texas.gov/calendar/tof/franklin-mountains/2022_11_19
END:VEVENT
BEGIN:VTIMEZONE
TZID:US/Central
X-LIC-LOCATION:US/Central
BEGIN:STANDARD
DTSTART;VALUE=DATE-TIME:20221106T010000
TZNAME:CST
TZOFFSETFROM:-0500
TZOFFSETTO:-0600
END:STANDARD
END:VTIMEZONE
END:VCALENDAR
