BEGIN:VCALENDAR
VERSION:2.0
PRODID:-//Plone.org//NONSGML plone.app.event//EN
X-WR-TIMEZONE:US/Central
BEGIN:VEVENT
SUMMARY:Facts vs Fakes
DTSTART;TZID=US/Central;VALUE=DATE-TIME:20241231T140000
DTEND;TZID=US/Central;VALUE=DATE-TIME:20241231T150000
DTSTAMP;VALUE=DATE-TIME:20260420T144252Z
UID:bc25615ad3d04fb299cff01787d0b606
CONTACT:Junior Rodriguez\, (903) 597-5338\, guadalupe.rodriguez@tpwd.texas
 .gov
CREATED;VALUE=DATE-TIME:20241113T173613Z
DESCRIPTION:Let's set the record straight!
LAST-MODIFIED;VALUE=DATE-TIME:20241114T172047Z
URL:https://tpwd.texas.gov/calendar/tyler/juniors-events/facts-vs-fake
END:VEVENT
BEGIN:VTIMEZONE
TZID:US/Central
X-LIC-LOCATION:US/Central
BEGIN:STANDARD
DTSTART;VALUE=DATE-TIME:20241103T010000
TZNAME:CST
TZOFFSETFROM:-0500
TZOFFSETTO:-0600
END:STANDARD
END:VTIMEZONE
END:VCALENDAR
