BEGIN:VCALENDAR
VERSION:2.0
PRODID:-//Plone.org//NONSGML plone.app.event//EN
X-WR-TIMEZONE:US/Central
BEGIN:VEVENT
SUMMARY:National Texas Day
DTSTART;TZID=US/Central;VALUE=DATE-TIME:20250201T143000
DTEND;TZID=US/Central;VALUE=DATE-TIME:20250201T153000
DTSTAMP;VALUE=DATE-TIME:20260421T125214Z
UID:3d9e7d2ed4f64282b72d16cfab8ce533
CONTACT:Junior Rodriguez\, (903) 597-5338\, guadalupe.rodriguez@tpwd.texas
 .gov
CREATED;VALUE=DATE-TIME:20241214T194435Z
DESCRIPTION:Yeehaw! It's a great day to be a Texan.
LAST-MODIFIED;VALUE=DATE-TIME:20241214T201048Z
URL:https://tpwd.texas.gov/calendar/tyler/juniors-events/national-texas-da
 y
END:VEVENT
BEGIN:VTIMEZONE
TZID:US/Central
X-LIC-LOCATION:US/Central
BEGIN:STANDARD
DTSTART;VALUE=DATE-TIME:20241103T010000
TZNAME:CST
TZOFFSETFROM:-0500
TZOFFSETTO:-0600
END:STANDARD
END:VTIMEZONE
END:VCALENDAR
