BEGIN:VCALENDAR
VERSION:2.0
PRODID:-//Plone.org//NONSGML plone.app.event//EN
X-WR-TIMEZONE:US/Central
BEGIN:VEVENT
SUMMARY:National Trails Day
DTSTART;TZID=US/Central;VALUE=DATE-TIME:20250607T140000
DTEND;TZID=US/Central;VALUE=DATE-TIME:20250607T150000
DTSTAMP;VALUE=DATE-TIME:20260420T153921Z
UID:dd27440c40e543d1bb39982ee13e3a36
CONTACT:Junior Rodriguez\, (903) 597-5338\, guadalupe.rodriguez@tpwd.texas
 .gov
CREATED;VALUE=DATE-TIME:20250513T211632Z
DESCRIPTION:Spend a day out on the trails!
LAST-MODIFIED;VALUE=DATE-TIME:20250513T211707Z
URL:https://tpwd.texas.gov/calendar/tyler/juniors-events/national-trails-d
 ay
END:VEVENT
BEGIN:VTIMEZONE
TZID:US/Central
X-LIC-LOCATION:US/Central
BEGIN:DAYLIGHT
DTSTART;VALUE=DATE-TIME:20250309T030000
TZNAME:CDT
TZOFFSETFROM:-0600
TZOFFSETTO:-0500
END:DAYLIGHT
END:VTIMEZONE
END:VCALENDAR
