BEGIN:VCALENDAR
VERSION:2.0
PRODID:-//Plone.org//NONSGML plone.app.event//EN
X-WR-TIMEZONE:US/Central
BEGIN:VEVENT
SUMMARY:Birding for Beginners
DTSTART;TZID=US/Central;VALUE=DATE-TIME:20250719T090000
DTEND;TZID=US/Central;VALUE=DATE-TIME:20250719T103000
DTSTAMP;VALUE=DATE-TIME:20260420T154800Z
UID:c60f0c6c871c47bc98d0e3200b79d102
CONTACT:Alexander M Stamatis\, (409) 751-3907\, alex.stamatis@tpwd.texas.g
 ov\, https://www.facebook.com/share/1HcuyqsKr7/
CREATED;VALUE=DATE-TIME:20230330T185655Z
DESCRIPTION:Have you ever wanted to find out what it takes to be a birder?
  Join a Ranger to learn about one of the fastest-growing hobbies in the na
 tion!
LAST-MODIFIED;VALUE=DATE-TIME:20250702T214226Z
URL:https://tpwd.texas.gov/calendar/village-creek/copy4_of_birding-for-beg
 inners-1
END:VEVENT
BEGIN:VTIMEZONE
TZID:US/Central
X-LIC-LOCATION:US/Central
BEGIN:DAYLIGHT
DTSTART;VALUE=DATE-TIME:20250309T030000
TZNAME:CDT
TZOFFSETFROM:-0600
TZOFFSETTO:-0500
END:DAYLIGHT
END:VTIMEZONE
END:VCALENDAR
