BEGIN:VCALENDAR
VERSION:2.0
PRODID:-//Plone.org//NONSGML plone.app.event//EN
X-WR-TIMEZONE:US/Central
BEGIN:VEVENT
SUMMARY:Birding for Beginners
DTSTART;TZID=US/Central;VALUE=DATE-TIME:20251012T090000
DTEND;TZID=US/Central;VALUE=DATE-TIME:20251012T103000
DTSTAMP;VALUE=DATE-TIME:20260420T071100Z
UID:0005b2bbfe2141f9aa01674199575be1
CONTACT:Alex Stamatis\, (409) 223-2229\, alex.stamatis@tpwd.texas.gov\, ht
 tps://www.facebook.com/share/1DV2rauBgL/
CREATED;VALUE=DATE-TIME:20250301T163614Z
DESCRIPTION:Join a Ranger to get an intro to birding as Spring Migration S
 tarts
LAST-MODIFIED;VALUE=DATE-TIME:20250928T211852Z
URL:https://tpwd.texas.gov/calendar/village-creek/copy_of_birding-for-begi
 nners
END:VEVENT
BEGIN:VTIMEZONE
TZID:US/Central
X-LIC-LOCATION:US/Central
BEGIN:DAYLIGHT
DTSTART;VALUE=DATE-TIME:20250309T030000
TZNAME:CDT
TZOFFSETFROM:-0600
TZOFFSETTO:-0500
END:DAYLIGHT
END:VTIMEZONE
END:VCALENDAR
