BEGIN:VCALENDAR
VERSION:2.0
PRODID:-//Plone.org//NONSGML plone.app.event//EN
X-WR-TIMEZONE:US/Central
BEGIN:VEVENT
SUMMARY:First Day Hikes - Compass Reading
DTSTART;TZID=US/Central;VALUE=DATE-TIME:20260101T130000
DTEND;TZID=US/Central;VALUE=DATE-TIME:20260101T140000
DTSTAMP;VALUE=DATE-TIME:20260420T113626Z
UID:49652838203645d4aeb2a4b98bd20e4e
CONTACT:Alex Stamatis\, (409) 223-2229\, alex.stamatis@tpwd.texas.gov\, ht
 tps://www.facebook.com/share/1D6FMYBXFz/
CREATED;VALUE=DATE-TIME:20231130T200001Z
DESCRIPTION:Join a Village Creek State Park ranger to ring in the new year
  and learn land navigation.
LAST-MODIFIED;VALUE=DATE-TIME:20251102T185503Z
URL:https://tpwd.texas.gov/calendar/village-creek/copy_of_first-day-hikes-
 compass-reading
END:VEVENT
BEGIN:VTIMEZONE
TZID:US/Central
X-LIC-LOCATION:US/Central
BEGIN:STANDARD
DTSTART;VALUE=DATE-TIME:20251102T010000
TZNAME:CST
TZOFFSETFROM:-0500
TZOFFSETTO:-0600
END:STANDARD
END:VTIMEZONE
END:VCALENDAR
