BEGIN:VCALENDAR
VERSION:2.0
PRODID:-//Plone.org//NONSGML plone.app.event//EN
X-WR-TIMEZONE:US/Central
BEGIN:VEVENT
SUMMARY:Spring Equinox - Sun Viewing
DTSTART;TZID=US/Central;VALUE=DATE-TIME:20260321T110000
DTEND;TZID=US/Central;VALUE=DATE-TIME:20260321T120000
DTSTAMP;VALUE=DATE-TIME:20260420T000138Z
UID:3518e08dbc8f4ba8ba4405fa1a4bbfe4
CONTACT:Alex Stamatis\, (409) 751-3907\, alex.stamatis@tpwd.texas.gov\, ht
 tps://www.facebook.com/share/17FffvC3Dz/
CREATED;VALUE=DATE-TIME:20241129T215842Z
DESCRIPTION:Join a Park Ranger for a detailed look at our closest star!
LAST-MODIFIED;VALUE=DATE-TIME:20260306T192827Z
URL:https://tpwd.texas.gov/calendar/village-creek/copy_of_winter-solstice-
 sun-viewing
END:VEVENT
BEGIN:VTIMEZONE
TZID:US/Central
X-LIC-LOCATION:US/Central
BEGIN:DAYLIGHT
DTSTART;VALUE=DATE-TIME:20260308T030000
TZNAME:CDT
TZOFFSETFROM:-0600
TZOFFSETTO:-0500
END:DAYLIGHT
END:VTIMEZONE
END:VCALENDAR
