View In:
ArcGIS JavaScript
ArcGIS Online Map Viewer
ArcGIS Earth
ArcGIS Pro
Service Description: This project contains scale-dependent annotation associated with the LWRCRP Property layer. Also included is the LWRCRP_Feature layer that serves no purpose other than for supporting the Pop-Up functionality
Map Name: LWRCRP_Anno_01
Legend
All Layers and Tables
Dynamic Legend
Dynamic All Layers
Layers:
Description: This project contains scale-dependent annotation associated with the LWRCRP Property layer. Also included is the LWRCRP_Feature layer that serves no purpose other than for supporting the Pop-Up functionality
Service Item Id: 48158a7fccf54a069614dc32a2c09dcc
Copyright Text: TPWD
Spatial Reference:
102100
(3857)
LatestVCSWkid(0)
Single Fused Map Cache: true
Tile Info:
- Height: 256.0
- Width: 256.0
- DPI: 96.0
-
Levels of Detail: 24
-
Level ID: 1
[ Start Tile, End Tile ]
- Resolution: 78271.5169639999
- Scale: 2.95828763795777E8
-
Level ID: 2
[ Start Tile, End Tile ]
- Resolution: 39135.7584820001
- Scale: 1.47914381897889E8
-
Level ID: 3
[ Start Tile, End Tile ]
- Resolution: 19567.8792409999
- Scale: 7.3957190948944E7
-
Level ID: 4
[ Start Tile, End Tile ]
- Resolution: 9783.93962049996
- Scale: 3.6978595474472E7
-
Level ID: 5
[ Start Tile, End Tile ]
- Resolution: 4891.96981024998
- Scale: 1.8489297737236E7
- Format: PNG
- Compression Quality: 0.0
- Origin: X: -2.0037508342787E7
Y: 2.0037508342787E7
- Spatial Reference: 102100
(3857)
LatestVCSWkid(0)
Storage Info:
- Storage Format: esriMapCacheStorageModeCompactV2
- Packet Size: 128
Initial Extent:
XMin: -1.1776675713197347E7
YMin: 3222767.227269362
XMax: -1.0460583193202656E7
YMax: 4152302.51803064
Spatial Reference: 102100
(3857)
LatestVCSWkid(0)
Full Extent:
XMin: -1.1895760661600001E7
YMin: 2942288.4935000017
XMax: -1.03414982448E7
YMax: 4432781.251800001
Spatial Reference: 102100
(3857)
LatestVCSWkid(0)
Units: esriMeters
Supported Image Format Types: PNG32,PNG24,PNG,JPG,DIB,TIFF,EMF,PS,PDF,GIF,SVG,SVGZ,BMP
Document Info:
Title: Land and Water Resources Conservation and Recreation Plan Statewide Inventory
Author:
Comments: This project contains scale-dependent annotation associated with the LWRCRP Property layer. Also included is the LWRCRP_Feature layer that serves no purpose other than for supporting the Pop-Up functionality
Subject: The information presented here is the result of a systematic inventory of data gathered from Federal, State, County and City governmental entities.
Category:
Keywords: LWRCRP,Recreation,Conservation,Texas
AntialiasingMode: None
TextAntialiasingMode: Force
Supports Dynamic Layers: true
Resampling: false
MaxRecordCount: 2000
MaxSelectionCount: 2000
MaxImageHeight: 4096
MaxImageWidth: 4096
Supported Query Formats: JSON, geoJSON, PBF
Supports Query Data Elements: true
Min Scale: 5.91657527591555E8
Max Scale: 1128.497176
Supports Datum Transformation: true
Child Resources:
Info
Dynamic Layer
Supported Operations:
Export Map
Identify
QueryLegends
QueryDomains
Find
Return Updates