View In:
ArcGIS JavaScript
ArcGIS Online Map Viewer
ArcGIS Earth
ArcGIS Pro
Service Description: <p style='margin-top:0px; margin-bottom:0.75rem; max-width:100%;'><span style='max-width:100%; display:inherit;'>This data is a detailed and comprehensive database of of the vegetation communities of Texas.</span><div style='font-family:"Avenir Next W01", "Avenir Next W00", "Avenir Next", Avenir, "Helvetica Neue", sans-serif; font-size:16px;'><br /></div></p>
Map Name: Texas EMS
Legend
All Layers and Tables
Dynamic Legend
Dynamic All Layers
Layers:
Description: This data is a detailed and comprehensive database of of the vegetation communities of Texas.
Service Item Id: 77e6dc20b6ec4a18a09539daacc4eb9a
Copyright Text: Texas Parks and Wildlife Department, Wildlife Division, Landscape Ecology Program
Spatial Reference:
102100
(3857)
LatestVCSWkid(0)
Single Fused Map Cache: true
Tile Info:
- Height: 256.0
- Width: 256.0
- DPI: 96.0
-
Levels of Detail: 24
-
Level ID: 1
[ Start Tile, End Tile ]
- Resolution: 78271.5169639999
- Scale: 2.95828763795777E8
-
Level ID: 2
[ Start Tile, End Tile ]
- Resolution: 39135.7584820001
- Scale: 1.47914381897889E8
-
Level ID: 3
[ Start Tile, End Tile ]
- Resolution: 19567.8792409999
- Scale: 7.3957190948944E7
-
Level ID: 4
[ Start Tile, End Tile ]
- Resolution: 9783.93962049996
- Scale: 3.6978595474472E7
-
Level ID: 5
[ Start Tile, End Tile ]
- Resolution: 4891.96981024998
- Scale: 1.8489297737236E7
- Format: PNG
- Compression Quality: 0.0
- Origin: X: -2.0037508342787E7
Y: 2.0037508342787E7
- Spatial Reference: 102100
(3857)
LatestVCSWkid(0)
Storage Info:
- Storage Format: esriMapCacheStorageModeCompactV2
- Packet Size: 128
Initial Extent:
XMin: -1.2083781298421407E7
YMin: 2909416.261769999
XMax: -1.0197264111078592E7
YMax: 4439231.008229997
Spatial Reference: 102100
(3857)
LatestVCSWkid(0)
Full Extent:
XMin: -1.18718039956E7
YMin: 2978953.2956999987
XMax: -1.04092414139E7
YMax: 4369693.974299997
Spatial Reference: 102100
(3857)
LatestVCSWkid(0)
Units: esriMeters
Supported Image Format Types: PNG32,PNG24,PNG,JPG,DIB,TIFF,EMF,PS,PDF,GIF,SVG,SVGZ,BMP
Document Info:
Title: Map
Author:
Comments:
Subject:
Category:
Keywords: Texas,EMS,WL,TPWD
AntialiasingMode: Fast
TextAntialiasingMode: Force
Supports Dynamic Layers: true
MaxRecordCount: 2000
MaxSelectionCount: 2000
MaxImageHeight: 4096
MaxImageWidth: 4096
Supported Query Formats: JSON, geoJSON, PBF
Supports Query Data Elements: true
Min Scale: 1.8489297737236E7
Max Scale: 9027.977411
Supports Datum Transformation: true
Child Resources:
Info
Dynamic Layer
Supported Operations:
Export Map
Identify
QueryLegends
QueryDomains
Find
Return Updates